View In:
ArcGIS JavaScript
ArcGIS Online Map Viewer
ArcGIS Earth
Service Description: NellisCreechBuildingHeightsApp/prdgis_GISMO_Creech_Nellis_Raster_tif
Name: NellisCreechBuildingHeightsApp/prdgis_GISMO_Creech_Nellis_Raster_tif
Description:
Single Fused Map Cache: false
Extent:
XMin: 572728.5052108802
YMin: 2.6739429410635248E7
XMax: 866259.3063579202
YMax: 2.696428017372285E7
Spatial Reference: 102707
(3421)
LatestVCSWkid(0)
Initial Extent:
XMin: 572728.5052108802
YMin: 2.6739429410635248E7
XMax: 866259.3063579202
YMax: 2.696428017372285E7
Spatial Reference: 102707
(3421)
LatestVCSWkid(0)
Full Extent:
XMin: 572728.5052108802
YMin: 2.6739429410635248E7
XMax: 866259.3063579202
YMax: 2.696428017372285E7
Spatial Reference: 102707
(3421)
LatestVCSWkid(0)
Pixel Size X: 30.242200818776013
Pixel Size Y: 30.242200818776123
Band Count: 1
Pixel Type: F32
RasterFunction Infos: {"rasterFunctionInfos": [{
"name": "None",
"description": "",
"help": ""
}]}
Mensuration Capabilities: Basic
Inspection Capabilities:
Has Histograms: true
Has Colormap: false
Has Multi Dimensions : false
Rendering Rule:
Min Scale: 0
Max Scale: 0
Copyright Text:
Service Data Type: esriImageServiceDataTypeGeneric
Min Values: -1877
Max Values: 837
Mean Values: 78.44938960814808
Standard Deviation Values: 456.9966722072848
Object ID Field:
Fields:
None
Default Mosaic Method: Center
Allowed Mosaic Methods:
SortField:
SortValue: null
Mosaic Operator: First
Default Compression Quality: 75
Default Resampling Method: Bilinear
Max Record Count: null
Max Image Height: 4100
Max Image Width: 15000
Max Download Image Count: null
Max Mosaic Image Count: null
Allow Raster Function: true
Allow Copy: true
Allow Analysis: true
Allow Compute TiePoints: false
Supports Statistics: false
Supports Advanced Queries: false
Use StandardizedQueries: true
Raster Type Infos:
Name: Raster Dataset
Description: Supports all ArcGIS Raster Datasets
Help:
Has Raster Attribute Table: false
Edit Fields Info: null
Ownership Based AccessControl For Rasters: null
Child Resources:
Info
Histograms
Statistics
Key Properties
Legend
Raster Function Infos
Supported Operations:
Export Image
Identify
Measure
Compute Histograms
Compute Statistics Histograms
Get Samples
Compute Class Statistics
Query Boundary
Compute Pixel Location
Compute Angles
Validate
Project