{
 "currentVersion": 11.5,
 "serviceDescription": "NellisCreechBuildingHeightsApp/prdgis_GISMO_Creech_Nellis_Raster_tif",
 "serviceItemId": "d71acc4865e54ba98aab95e38dd47937",
 "name": "NellisCreechBuildingHeightsApp/prdgis_GISMO_Creech_Nellis_Raster_tif",
 "description": "",
 "extent": {
  "xmin": 572728.5052108802,
  "ymin": 2.6739429410635248E7,
  "xmax": 866259.3063579202,
  "ymax": 2.696428017372285E7,
  "spatialReference": {
   "wkid": 102707,
   "latestWkid": 3421
  }
 },
 "initialExtent": {
  "xmin": 572728.5052108802,
  "ymin": 2.6739429410635248E7,
  "xmax": 866259.3063579202,
  "ymax": 2.696428017372285E7,
  "spatialReference": {
   "wkid": 102707,
   "latestWkid": 3421
  }
 },
 "fullExtent": {
  "xmin": 572728.5052108802,
  "ymin": 2.6739429410635248E7,
  "xmax": 866259.3063579202,
  "ymax": 2.696428017372285E7,
  "spatialReference": {
   "wkid": 102707,
   "latestWkid": 3421
  }
 },
 "sortableFields": "",
 "bandCount": 1,
 "pixelType": "F32",
 "minValues": [
  -1877
 ],
 "maxValues": [
  837
 ],
 "meanValues": [
  78.44938960814808
 ],
 "stdvValues": [
  456.9966722072848
 ],
 "serviceProperties": "Center<\/MosaicMethod>First<\/MosaicOperator>true<\/SortAscending><\/LockImageID><\/TileOrderField>0<\/TileOrderBase>0.000000<\/AvgImageSpacingX>0.000000<\/AvgImageSpacingY>0.0<\/ViewPointX>0.0<\/ViewPointY>0.0<\/ViewPointDefShiftX>0.0<\/ViewPointDefShiftY>None<\/CompressionMethod>75<\/CompressionQuality>0.010000<\/CompressionTolerance>Bilinear<\/SamplingMethod><\/ImageServiceProperties><\/ImageServer>",
 "allowedFields": "",
 "hasMultidimensions": false,
 "pixelSizeX": 30.242200818776013,
 "pixelSizeY": 30.242200818776123,
 "meanPixelSize": 9.217841245245438,
 "datasetFormat": "SDR",
 "uncompressedSize": 288656440,
 "blockWidth": 128,
 "blockHeight": 128,
 "compressionType": "LZ77",
 "bandNames": [
  "Band_1"
 ],
 "allowCopy": true,
 "allowAnalysis": true,
 "itemAccess": false,
 "inspectionCapabilities": "",
 "minPixelSize": 0,
 "maxPixelSize": 0,
 "copyrightText": "",
 "serviceDataType": "esriImageServiceDataTypeGeneric",
 "serviceSourceType": "esriImageServiceSourceTypeDataset",
 "objectIdField": "",
 "fields": [],
 "capabilities": "Image,Metadata,Mensuration",
 "defaultMosaicMethod": "Center",
 "allowedMosaicMethods": "",
 "sortField": "",
 "sortValue": null,
 "sortAscending": true,
 "mosaicOperator": "First",
 "defaultCompressionQuality": 75,
 "defaultResamplingMethod": "Bilinear",
 "maxImageHeight": 4100,
 "maxImageWidth": 15000,
 "allowRasterFunction": true,
 "rasterFunctionInfos": [
  {
   "name": "None",
   "description": "",
   "help": ""
  }
 ],
 "rasterTypeInfos": [
  {
   "name": "Raster Dataset",
   "description": "Supports all ArcGIS Raster Datasets",
   "help": ""
  }
 ],
 "mensurationCapabilities": "Basic",
 "hasHistograms": true,
 "hasColormap": false,
 "hasRasterAttributeTable": false,
 "minScale": 0,
 "maxScale": 0,
 "exportTilesAllowed": false,
 "supportsStatistics": false,
 "supportsAdvancedQueries": false,
 "editFieldsInfo": null,
 "ownershipBasedAccessControlForRasters": null,
 "allowComputeTiePoints": false,
 "useStandardizedQueries": true,
 "advancedQueryCapabilities": {
  "useStandardizedQueries": true,
  "supportsStatistics": false,
  "supportsOrderBy": false,
  "supportsDistinct": false,
  "supportsPagination": false
 },
 "spatialReference": {
  "wkid": 102707,
  "latestWkid": 3421
 }
}
