{
 "currentVersion": 11.5,
 "cimVersion": "3.5.0",
 "serviceDescription": "",
 "mapName": "Layers",
 "description": "",
 "copyrightText": "",
 "supportsDynamicLayers": false,
 "layers": [
  {
   "id": 0,
   "name": "o144220.tif",
   "parentLayerId": -1,
   "defaultVisibility": true,
   "subLayerIds": null,
   "minScale": 0,
   "maxScale": 0,
   "type": "Raster Layer",
   "supportsDynamicLegends": true
  },
  {
   "id": 1,
   "name": "o26715.tif",
   "parentLayerId": -1,
   "defaultVisibility": true,
   "subLayerIds": null,
   "minScale": 0,
   "maxScale": 0,
   "type": "Raster Layer",
   "supportsDynamicLegends": true
  },
  {
   "id": 2,
   "name": "o20016.tif",
   "parentLayerId": -1,
   "defaultVisibility": true,
   "subLayerIds": null,
   "minScale": 0,
   "maxScale": 0,
   "type": "Raster Layer",
   "supportsDynamicLegends": true
  }
 ],
 "tables": [],
 "spatialReference": {
  "wkid": 102707,
  "latestWkid": 3421,
  "xyTolerance": 0.003280833333333333,
  "zTolerance": 0.001,
  "mTolerance": 0.001,
  "falseX": -17790500,
  "falseY": -19184900,
  "xyUnits": 1.3725506987923574E8,
  "falseZ": -100000,
  "zUnits": 10000,
  "falseM": -100000,
  "mUnits": 10000
 },
 "singleFusedMapCache": true,
 "tileInfo": {
  "rows": 512,
  "cols": 512,
  "dpi": 96,
  "format": "JPEG",
  "compressionQuality": 75,
  "origin": {
   "x": -17790500,
   "y": 46438900
  },
  "spatialReference": {
   "wkid": 102707,
   "latestWkid": 3421,
   "xyTolerance": 0.0032808333333333335,
   "zTolerance": 2,
   "mTolerance": 2,
   "falseX": -17790500,
   "falseY": -19184900,
   "xyUnits": 1.3725506987923574E8,
   "falseZ": 0,
   "zUnits": 1,
   "falseM": -100000,
   "mUnits": 10000
  },
  "lods": [
   {
    "level": 0,
    "resolution": 868.0555555555557,
    "scale": 1000000
   },
   {
    "level": 1,
    "resolution": 434.0277777777778,
    "scale": 500000
   },
   {
    "level": 2,
    "resolution": 217.0138888888889,
    "scale": 250000
   },
   {
    "level": 3,
    "resolution": 86.80555555555556,
    "scale": 100000
   },
   {
    "level": 4,
    "resolution": 20.833333333333336,
    "scale": 24000
   },
   {
    "level": 5,
    "resolution": 8.680555555555555,
    "scale": 10000
   },
   {
    "level": 6,
    "resolution": 4.340277777777778,
    "scale": 5000
   },
   {
    "level": 7,
    "resolution": 1.7361111111111112,
    "scale": 2000
   },
   {
    "level": 8,
    "resolution": 0.8680555555555556,
    "scale": 1000
   }
  ]
 },
 "storageInfo": {
  "storageFormat": "esriMapCacheStorageModeCompact",
  "packetSize": 128
 },
 "initialExtent": {
  "xmin": 771522.1398214187,
  "ymin": 2.6747469189990006E7,
  "xmax": 775277.3481547519,
  "ymax": 2.675043273165667E7,
  "spatialReference": {
   "wkid": 102707,
   "latestWkid": 3421,
   "xyTolerance": 0.003280833333333333,
   "zTolerance": 0.001,
   "mTolerance": 0.001,
   "falseX": -17790500,
   "falseY": -19184900,
   "xyUnits": 1.3725506987923574E8,
   "falseZ": -100000,
   "zUnits": 10000,
   "falseM": -100000,
   "mUnits": 10000
  }
 },
 "fullExtent": {
  "xmin": 619329.9999999999,
  "ymin": 2.6331116999999993E7,
  "xmax": 1109535.9999999998,
  "ymax": 2.7018332499999996E7,
  "spatialReference": {
   "wkid": 102707,
   "latestWkid": 3421,
   "xyTolerance": 0.003280833333333333,
   "zTolerance": 0.001,
   "mTolerance": 0.001,
   "falseX": -17790500,
   "falseY": -19184900,
   "xyUnits": 1.3725506987923574E8,
   "falseZ": -100000,
   "zUnits": 10000,
   "falseM": -100000,
   "mUnits": 10000
  }
 },
 "datesInUnknownTimezone": false,
 "minScale": 1000000,
 "maxScale": 1000,
 "units": "esriFeet",
 "supportedImageFormatTypes": "PNG32,PNG24,PNG,JPG,DIB,TIFF,EMF,PS,PDF,GIF,SVG,SVGZ,BMP",
 "documentInfo": {
  "Title": "",
  "Author": "",
  "Comments": "",
  "Subject": "",
  "Category": "",
  "Version": "10.1",
  "AntialiasingMode": "None",
  "TextAntialiasingMode": "Force",
  "Keywords": ""
 },
 "supportsQueryDomains": true,
 "capabilities": "Data,Map,Query",
 "supportedQueryFormats": "JSON, geoJSON, PBF",
 "exportTilesAllowed": false,
 "referenceScale": 0.0,
 "supportsDatumTransformation": true,
 "archivingInfo": {
  "supportsHistoricMoment": false
 },
 "supportsClipping": true,
 "supportsSpatialFilter": true,
 "supportsTimeRelation": true,
 "supportsQueryDataElements": true,
 "mapUnits": {
  "uwkid": 9003
 },
 "maxSelectionCount": 2000,
 "maxRecordCount": 1000,
 "maxImageHeight": 4096,
 "maxImageWidth": 4096,
 "supportedExtensions": "KmlServer",
 "serviceItemId": "8e23086174f9486db1eef103735bc631"
}
